BEGIN:VCALENDAR
VERSION:2.0
PRODID:-//Powell Animal Welfare Society (PAWS) - ECPv6.15.13.1//NONSGML v1.0//EN
CALSCALE:GREGORIAN
METHOD:PUBLISH
X-ORIGINAL-URL:https://www.powellpaws.org
X-WR-CALDESC:Events for Powell Animal Welfare Society (PAWS)
REFRESH-INTERVAL;VALUE=DURATION:PT1H
X-Robots-Tag:noindex
X-PUBLISHED-TTL:PT1H
BEGIN:VTIMEZONE
TZID:America/New_York
BEGIN:DAYLIGHT
TZOFFSETFROM:-0500
TZOFFSETTO:-0400
TZNAME:EDT
DTSTART:20240310T070000
END:DAYLIGHT
BEGIN:STANDARD
TZOFFSETFROM:-0400
TZOFFSETTO:-0500
TZNAME:EST
DTSTART:20241103T060000
END:STANDARD
BEGIN:DAYLIGHT
TZOFFSETFROM:-0500
TZOFFSETTO:-0400
TZNAME:EDT
DTSTART:20250309T070000
END:DAYLIGHT
BEGIN:STANDARD
TZOFFSETFROM:-0400
TZOFFSETTO:-0500
TZNAME:EST
DTSTART:20251102T060000
END:STANDARD
BEGIN:DAYLIGHT
TZOFFSETFROM:-0500
TZOFFSETTO:-0400
TZNAME:EDT
DTSTART:20260308T070000
END:DAYLIGHT
BEGIN:STANDARD
TZOFFSETFROM:-0400
TZOFFSETTO:-0500
TZNAME:EST
DTSTART:20261101T060000
END:STANDARD
END:VTIMEZONE
BEGIN:VEVENT
DTSTART;TZID=America/New_York:20250628T100000
DTEND;TZID=America/New_York:20250628T140000
DTSTAMP:20260424T050659
CREATED:20250401T214051Z
LAST-MODIFIED:20250401T214051Z
UID:4795-1751104800-1751119200@www.powellpaws.org
SUMMARY:World Blood Donor Day and Pet Expo
DESCRIPTION:Please join us for a fun event and visit with some of our adoptable doggos at the Riverside Crossing Park\, directly across from Bridge Park and adjacent to the Dublin Farmers Market
URL:https://www.powellpaws.org/event/world-blood-donor-day-and-pet-expo/
LOCATION:Riverside Crossing Park\, Riverside Crossing Park\, Dublin\, OH\, 43017\, United States
ORGANIZER;CN="Ohio Pet Charities":MAILTO:info@ohiopetcharities.org
END:VEVENT
END:VCALENDAR