BEGIN:VCALENDAR
VERSION:2.0
PRODID:-//Powell Animal Welfare Society (PAWS) - ECPv6.15.13.1//NONSGML v1.0//EN
CALSCALE:GREGORIAN
METHOD:PUBLISH
X-ORIGINAL-URL:https://www.powellpaws.org
X-WR-CALDESC:Events for Powell Animal Welfare Society (PAWS)
REFRESH-INTERVAL;VALUE=DURATION:PT1H
X-Robots-Tag:noindex
X-PUBLISHED-TTL:PT1H
BEGIN:VTIMEZONE
TZID:UTC
BEGIN:STANDARD
TZOFFSETFROM:+0000
TZOFFSETTO:+0000
TZNAME:UTC
DTSTART:20250101T000000
END:STANDARD
END:VTIMEZONE
BEGIN:VEVENT
DTSTART;TZID=UTC:20260103T100000
DTEND;TZID=UTC:20260103T120000
DTSTAMP:20260423T170718
CREATED:20221001T012556Z
LAST-MODIFIED:20251203T173008Z
UID:4427-1767434400-1767441600@www.powellpaws.org
SUMMARY:Mutts & Co Dublin Meet and Greet
DESCRIPTION:Come and meet some of Powell Animal Welfare Society’s adoptable dogs the first Saturday of the month! \n 
URL:https://www.powellpaws.org/event/mutts-co-dublin-meet-and-greet1/
LOCATION:Mutts & Co Dublin\, 7549 Sawmill Road\, Dublin\, OH\, 43054\, United States
END:VEVENT
END:VCALENDAR