BEGIN:VCALENDAR
VERSION:2.0
PRODID:-//Powell Animal Welfare Society (PAWS) - ECPv6.15.13.1//NONSGML v1.0//EN
CALSCALE:GREGORIAN
METHOD:PUBLISH
X-WR-CALNAME:Powell Animal Welfare Society (PAWS)
X-ORIGINAL-URL:https://www.powellpaws.org
X-WR-CALDESC:Events for Powell Animal Welfare Society (PAWS)
REFRESH-INTERVAL;VALUE=DURATION:PT1H
X-Robots-Tag:noindex
X-PUBLISHED-TTL:PT1H
BEGIN:VTIMEZONE
TZID:America/New_York
BEGIN:DAYLIGHT
TZOFFSETFROM:-0500
TZOFFSETTO:-0400
TZNAME:EDT
DTSTART:20250309T070000
END:DAYLIGHT
BEGIN:STANDARD
TZOFFSETFROM:-0400
TZOFFSETTO:-0500
TZNAME:EST
DTSTART:20251102T060000
END:STANDARD
BEGIN:DAYLIGHT
TZOFFSETFROM:-0500
TZOFFSETTO:-0400
TZNAME:EDT
DTSTART:20260308T070000
END:DAYLIGHT
BEGIN:STANDARD
TZOFFSETFROM:-0400
TZOFFSETTO:-0500
TZNAME:EST
DTSTART:20261101T060000
END:STANDARD
BEGIN:DAYLIGHT
TZOFFSETFROM:-0500
TZOFFSETTO:-0400
TZNAME:EDT
DTSTART:20270314T070000
END:DAYLIGHT
BEGIN:STANDARD
TZOFFSETFROM:-0400
TZOFFSETTO:-0500
TZNAME:EST
DTSTART:20271107T060000
END:STANDARD
END:VTIMEZONE
BEGIN:VEVENT
DTSTART;TZID=America/New_York:20260404T100000
DTEND;TZID=America/New_York:20260404T113000
DTSTAMP:20260423T124952
CREATED:20250205T233223Z
LAST-MODIFIED:20260403T131515Z
UID:4755-1775296800-1775302200@www.powellpaws.org
SUMMARY:Mutts & Co Dublin Meet and Greet
DESCRIPTION:Van\, Chica\, Bellatrix\, and Jake are ready to charm their way into your heart! Come hang out with these lovable pups at our Meet & Greet this Saturday\, April 4th\, 10:00-11:30am\, at Dublin Mutts & Co.Come say hi!  We’d love to see you..and your perfect match may be waiting for you!
URL:https://www.powellpaws.org/event/mutts-co-dublin-meet-and-greet4/
LOCATION:Mutts & Co Dublin\, 7549 Sawmill Road\, Dublin\, OH\, 43054\, United States
ATTACH;FMTTYPE=image/jpeg:https://www.powellpaws.org/wp-content/uploads/2025/02/Dublin_Mutts_meet_and_greet_April.jpg
END:VEVENT
END:VCALENDAR