BEGIN:VCALENDAR
VERSION:2.0
PRODID:-//Powell Animal Welfare Society (PAWS) - ECPv6.15.13.1//NONSGML v1.0//EN
CALSCALE:GREGORIAN
METHOD:PUBLISH
X-ORIGINAL-URL:https://www.powellpaws.org
X-WR-CALDESC:Events for Powell Animal Welfare Society (PAWS)
REFRESH-INTERVAL;VALUE=DURATION:PT1H
X-Robots-Tag:noindex
X-PUBLISHED-TTL:PT1H
BEGIN:VTIMEZONE
TZID:America/New_York
BEGIN:DAYLIGHT
TZOFFSETFROM:-0500
TZOFFSETTO:-0400
TZNAME:EDT
DTSTART:20250309T070000
END:DAYLIGHT
BEGIN:STANDARD
TZOFFSETFROM:-0400
TZOFFSETTO:-0500
TZNAME:EST
DTSTART:20251102T060000
END:STANDARD
BEGIN:DAYLIGHT
TZOFFSETFROM:-0500
TZOFFSETTO:-0400
TZNAME:EDT
DTSTART:20260308T070000
END:DAYLIGHT
BEGIN:STANDARD
TZOFFSETFROM:-0400
TZOFFSETTO:-0500
TZNAME:EST
DTSTART:20261101T060000
END:STANDARD
BEGIN:DAYLIGHT
TZOFFSETFROM:-0500
TZOFFSETTO:-0400
TZNAME:EDT
DTSTART:20270314T070000
END:DAYLIGHT
BEGIN:STANDARD
TZOFFSETFROM:-0400
TZOFFSETTO:-0500
TZNAME:EST
DTSTART:20271107T060000
END:STANDARD
END:VTIMEZONE
BEGIN:VEVENT
DTSTART;TZID=America/New_York:20260207T100000
DTEND;TZID=America/New_York:20260207T120000
DTSTAMP:20260423T170947
CREATED:20251203T174349Z
LAST-MODIFIED:20251203T174349Z
UID:4905-1770458400-1770465600@www.powellpaws.org
SUMMARY:Mutts & Co Dublin Meet and Greet
DESCRIPTION:Come out and see us and some cute adoptable pups!
URL:https://www.powellpaws.org/event/mutts-co-dublin-meet-and-greet2/
LOCATION:Mutts & Co Dublin\, 7549 Sawmill Road\, Dublin\, OH\, 43054\, United States
END:VEVENT
BEGIN:VEVENT
DTSTART;TZID=America/New_York:20260221T100000
DTEND;TZID=America/New_York:20260221T120000
DTSTAMP:20260423T170947
CREATED:20251203T174706Z
LAST-MODIFIED:20251203T174706Z
UID:4907-1771668000-1771675200@www.powellpaws.org
SUMMARY:Hollywood Feed Powell Meet and Greet
DESCRIPTION:Please join us at Hollywood Feed in Powell to meet some adoptable dogs in person!
URL:https://www.powellpaws.org/event/hollywood-feed-powell-meet-and-greet2/
LOCATION:Hollywood Feed Powell\, 4010 W Powell Road\, Powell\, OH\, 43065\, United States
END:VEVENT
BEGIN:VEVENT
DTSTART;TZID=America/New_York:20260228T100000
DTEND;TZID=America/New_York:20260228T113000
DTSTAMP:20260423T170947
CREATED:20251203T174907Z
LAST-MODIFIED:20260223T223015Z
UID:4909-1772272800-1772278200@www.powellpaws.org
SUMMARY:Pet Supplies Plus Meet and Greet
DESCRIPTION:Join us Saturday at Pet Supplies Plus in Powell to see our latest adoptable dogs! \nIF you want to see Mela\, she will only be at the event between 10 and 11 am!!
URL:https://www.powellpaws.org/event/pet-supplies-plus-meet-and-greet2/
LOCATION:Pet Supplies Plus\, 9848 Brewster Ln\, Powell\, OH\, 43065\, United States
END:VEVENT
BEGIN:VEVENT
DTSTART;TZID=America/New_York:20260307T100000
DTEND;TZID=America/New_York:20260307T120000
DTSTAMP:20260423T170947
CREATED:20250205T233019Z
LAST-MODIFIED:20251203T175408Z
UID:4753-1772877600-1772884800@www.powellpaws.org
SUMMARY:Mutts & Co Dublin Meet and Greet
DESCRIPTION:Come and meet some of Powell Animal Welfare Society’s adoptable dogs the first Saturday of the month!
URL:https://www.powellpaws.org/event/mutts-co-dublin-meet-and-greet3/
LOCATION:Mutts & Co Dublin\, 7549 Sawmill Road\, Dublin\, OH\, 43054\, United States
END:VEVENT
BEGIN:VEVENT
DTSTART;TZID=America/New_York:20260321T100000
DTEND;TZID=America/New_York:20260321T120000
DTSTAMP:20260423T170947
CREATED:20250206T002729Z
LAST-MODIFIED:20251203T175455Z
UID:4775-1774087200-1774094400@www.powellpaws.org
SUMMARY:Hollywood Feed Powell Meet and Greet
DESCRIPTION:Please join us at the Hollywood Feed in Powell to get to meet some of our latest rescue dogs! \n 
URL:https://www.powellpaws.org/event/hollywood-feed-powell-meet-and-greet3/
LOCATION:Hollywood Feed Powell\, 4010 W Powell Road\, Powell\, OH\, 43065\, United States
END:VEVENT
BEGIN:VEVENT
DTSTART;TZID=America/New_York:20260404T100000
DTEND;TZID=America/New_York:20260404T113000
DTSTAMP:20260423T170947
CREATED:20250205T233223Z
LAST-MODIFIED:20260403T131515Z
UID:4755-1775296800-1775302200@www.powellpaws.org
SUMMARY:Mutts & Co Dublin Meet and Greet
DESCRIPTION:Van\, Chica\, Bellatrix\, and Jake are ready to charm their way into your heart! Come hang out with these lovable pups at our Meet & Greet this Saturday\, April 4th\, 10:00-11:30am\, at Dublin Mutts & Co.Come say hi!  We’d love to see you..and your perfect match may be waiting for you!
URL:https://www.powellpaws.org/event/mutts-co-dublin-meet-and-greet4/
LOCATION:Mutts & Co Dublin\, 7549 Sawmill Road\, Dublin\, OH\, 43054\, United States
ATTACH;FMTTYPE=image/jpeg:https://www.powellpaws.org/wp-content/uploads/2025/02/Dublin_Mutts_meet_and_greet_April.jpg
END:VEVENT
BEGIN:VEVENT
DTSTART;TZID=America/New_York:20260418T100000
DTEND;TZID=America/New_York:20260418T120000
DTSTAMP:20260423T170947
CREATED:20250206T002836Z
LAST-MODIFIED:20260309T153000Z
UID:4777-1776506400-1776513600@www.powellpaws.org
SUMMARY:Hollywood Feed Powell Meet and Greet
DESCRIPTION:Please join us at the Hollywood Feed in Powell to get to meet some of our latest rescue dogs! \n 
URL:https://www.powellpaws.org/event/hollywood-feed-powell-meet-and-greet4/
LOCATION:Hollywood Feed Powell\, 4010 W Powell Road\, Powell\, OH\, 43065\, United States
END:VEVENT
BEGIN:VEVENT
DTSTART;TZID=America/New_York:20260502T100000
DTEND;TZID=America/New_York:20260502T120000
DTSTAMP:20260423T170947
CREATED:20250205T233332Z
LAST-MODIFIED:20260309T151957Z
UID:4757-1777716000-1777723200@www.powellpaws.org
SUMMARY:Mutts & Co Dublin Meet and Greet
DESCRIPTION:Come and meet some of Powell Animal Welfare Society’s adoptable dogs the first Saturday of the month!
URL:https://www.powellpaws.org/event/mutts-co-dublin-meet-and-greet5/
LOCATION:Mutts & Co Dublin\, 7549 Sawmill Road\, Dublin\, OH\, 43054\, United States
END:VEVENT
BEGIN:VEVENT
DTSTART;TZID=America/New_York:20260516T100000
DTEND;TZID=America/New_York:20260516T120000
DTSTAMP:20260423T170947
CREATED:20250206T002938Z
LAST-MODIFIED:20260309T153106Z
UID:4779-1778925600-1778932800@www.powellpaws.org
SUMMARY:Hollywood Feed Powell Meet and Greet
DESCRIPTION:Please join us at the Hollywood Feed in Powell to get to meet some of our latest rescue dogs! \n 
URL:https://www.powellpaws.org/event/hollywood-feed-powell-meet-and-greet5/
LOCATION:Hollywood Feed Powell\, 4010 W Powell Road\, Powell\, OH\, 43065\, United States
END:VEVENT
BEGIN:VEVENT
DTSTART;TZID=America/New_York:20260606T100000
DTEND;TZID=America/New_York:20260606T120000
DTSTAMP:20260423T170947
CREATED:20250205T233435Z
LAST-MODIFIED:20260309T152030Z
UID:4759-1780740000-1780747200@www.powellpaws.org
SUMMARY:Mutts & Co Dublin Meet and Greet
DESCRIPTION:Come and meet some of Powell Animal Welfare Society’s adoptable dogs the first Saturday of the month!
URL:https://www.powellpaws.org/event/mutts-co-dublin-meet-and-greet6/
LOCATION:Mutts & Co Dublin\, 7549 Sawmill Road\, Dublin\, OH\, 43054\, United States
END:VEVENT
BEGIN:VEVENT
DTSTART;TZID=America/New_York:20260620T100000
DTEND;TZID=America/New_York:20260620T120000
DTSTAMP:20260423T170947
CREATED:20250206T003046Z
LAST-MODIFIED:20260309T153134Z
UID:4781-1781949600-1781956800@www.powellpaws.org
SUMMARY:Hollywood Feed Powell Meet and Greet
DESCRIPTION:Please join us at the Hollywood Feed in Powell to get to meet some of our latest rescue dogs! \n 
URL:https://www.powellpaws.org/event/hollywood-feed-powell-meet-and-greet6/
LOCATION:Hollywood Feed Powell\, 4010 W Powell Road\, Powell\, OH\, 43065\, United States
END:VEVENT
BEGIN:VEVENT
DTSTART;TZID=America/New_York:20260718T100000
DTEND;TZID=America/New_York:20260718T120000
DTSTAMP:20260423T170947
CREATED:20250206T003152Z
LAST-MODIFIED:20260309T153404Z
UID:4783-1784368800-1784376000@www.powellpaws.org
SUMMARY:Hollywood Feed Powell Meet and Greet
DESCRIPTION:Please join us at the Hollywood Feed in Powell to get to meet some of our latest rescue dogs! \n 
URL:https://www.powellpaws.org/event/hollywood-feed-powell-meet-and-greet7/
LOCATION:Hollywood Feed Powell\, 4010 W Powell Road\, Powell\, OH\, 43065\, United States
END:VEVENT
BEGIN:VEVENT
DTSTART;TZID=America/New_York:20260801T100000
DTEND;TZID=America/New_York:20260801T120000
DTSTAMP:20260423T170947
CREATED:20250205T233745Z
LAST-MODIFIED:20260309T152143Z
UID:4763-1785578400-1785585600@www.powellpaws.org
SUMMARY:Mutts & Co Dublin Meet and Greet
DESCRIPTION:Come and meet some of Powell Animal Welfare Society’s adoptable dogs the first Saturday of the month!
URL:https://www.powellpaws.org/event/mutts-co-dublin-meet-and-greet8/
LOCATION:Mutts & Co Dublin\, 7549 Sawmill Road\, Dublin\, OH\, 43054\, United States
END:VEVENT
BEGIN:VEVENT
DTSTART;TZID=America/New_York:20260815T100000
DTEND;TZID=America/New_York:20260815T120000
DTSTAMP:20260423T170947
CREATED:20250206T003252Z
LAST-MODIFIED:20260309T153445Z
UID:4785-1786788000-1786795200@www.powellpaws.org
SUMMARY:Hollywood Feed Powell Meet and Greet
DESCRIPTION:Please join us at the Hollywood Feed in Powell to get to meet some of our latest rescue dogs! \n 
URL:https://www.powellpaws.org/event/hollywood-feed-powell-meet-and-greet8/
LOCATION:Hollywood Feed Powell\, 4010 W Powell Road\, Powell\, OH\, 43065\, United States
END:VEVENT
BEGIN:VEVENT
DTSTART;TZID=America/New_York:20260905T100000
DTEND;TZID=America/New_York:20260905T120000
DTSTAMP:20260423T170947
CREATED:20250205T233850Z
LAST-MODIFIED:20260309T152207Z
UID:4765-1788602400-1788609600@www.powellpaws.org
SUMMARY:Mutts & Co Dublin Meet and Greet
DESCRIPTION:Come and meet some of Powell Animal Welfare Society’s adoptable dogs the first Saturday of the month!
URL:https://www.powellpaws.org/event/mutts-co-dublin-meet-and-greet9/
LOCATION:Mutts & Co Dublin\, 7549 Sawmill Road\, Dublin\, OH\, 43054\, United States
END:VEVENT
BEGIN:VEVENT
DTSTART;TZID=America/New_York:20260919T100000
DTEND;TZID=America/New_York:20260919T120000
DTSTAMP:20260423T170947
CREATED:20250206T003353Z
LAST-MODIFIED:20260309T153514Z
UID:4787-1789812000-1789819200@www.powellpaws.org
SUMMARY:Hollywood Feed Powell Meet and Greet
DESCRIPTION:Please join us at the Hollywood Feed in Powell to get to meet some of our latest rescue dogs! \n 
URL:https://www.powellpaws.org/event/hollywood-feed-powell-meet-and-greet9/
LOCATION:Hollywood Feed Powell\, 4010 W Powell Road\, Powell\, OH\, 43065\, United States
END:VEVENT
BEGIN:VEVENT
DTSTART;TZID=America/New_York:20261003T100000
DTEND;TZID=America/New_York:20261003T120000
DTSTAMP:20260423T170947
CREATED:20250205T234008Z
LAST-MODIFIED:20260309T152229Z
UID:4767-1791021600-1791028800@www.powellpaws.org
SUMMARY:Mutts & Co Dublin Meet and Greet
DESCRIPTION:Come and meet some of Powell Animal Welfare Society’s adoptable dogs the first Saturday of the month!
URL:https://www.powellpaws.org/event/mutts-co-dublin-meet-and-greet10/
LOCATION:Mutts & Co Dublin\, 7549 Sawmill Road\, Dublin\, OH\, 43054\, United States
END:VEVENT
BEGIN:VEVENT
DTSTART;TZID=America/New_York:20261017T100000
DTEND;TZID=America/New_York:20261017T120000
DTSTAMP:20260423T170947
CREATED:20250206T003457Z
LAST-MODIFIED:20260309T153542Z
UID:4789-1792231200-1792238400@www.powellpaws.org
SUMMARY:Hollywood Feed Powell Meet and Greet
DESCRIPTION:Please join us at the Hollywood Feed in Powell to get to meet some of our latest rescue dogs! \n 
URL:https://www.powellpaws.org/event/hollywood-feed-powell-meet-and-greet10/
LOCATION:Hollywood Feed Powell\, 4010 W Powell Road\, Powell\, OH\, 43065\, United States
END:VEVENT
BEGIN:VEVENT
DTSTART;TZID=America/New_York:20261107T100000
DTEND;TZID=America/New_York:20261107T120000
DTSTAMP:20260423T170947
CREATED:20250205T234119Z
LAST-MODIFIED:20260309T152251Z
UID:4769-1794045600-1794052800@www.powellpaws.org
SUMMARY:Mutts & Co Dublin Meet and Greet
DESCRIPTION:Come and meet some of Powell Animal Welfare Society’s adoptable dogs the first Saturday of the month!
URL:https://www.powellpaws.org/event/mutts-co-dublin-meet-and-greet11/
LOCATION:Mutts & Co Dublin\, 7549 Sawmill Road\, Dublin\, OH\, 43054\, United States
END:VEVENT
BEGIN:VEVENT
DTSTART;TZID=America/New_York:20261121T100000
DTEND;TZID=America/New_York:20261121T120000
DTSTAMP:20260423T170947
CREATED:20250206T003557Z
LAST-MODIFIED:20260309T153618Z
UID:4791-1795255200-1795262400@www.powellpaws.org
SUMMARY:Hollywood Feed Powell Meet and Greet
DESCRIPTION:Please join us at the Hollywood Feed in Powell to get to meet some of our latest rescue dogs!
URL:https://www.powellpaws.org/event/hollywood-feed-powell-meet-and-greet11/
LOCATION:Hollywood Feed Powell\, 4010 W Powell Road\, Powell\, OH\, 43065\, United States
END:VEVENT
BEGIN:VEVENT
DTSTART;TZID=America/New_York:20261205T100000
DTEND;TZID=America/New_York:20261205T120000
DTSTAMP:20260423T170947
CREATED:20250205T234226Z
LAST-MODIFIED:20260309T152315Z
UID:4771-1796464800-1796472000@www.powellpaws.org
SUMMARY:Mutts & Co Dublin Meet and Greet
DESCRIPTION:Come and meet some of Powell Animal Welfare Society’s adoptable dogs the first Saturday of the month!
URL:https://www.powellpaws.org/event/mutts-co-dublin-meet-and-greet12/
LOCATION:Mutts & Co Dublin\, 7549 Sawmill Road\, Dublin\, OH\, 43054\, United States
END:VEVENT
BEGIN:VEVENT
DTSTART;TZID=America/New_York:20261219T100000
DTEND;TZID=America/New_York:20261219T120000
DTSTAMP:20260423T170947
CREATED:20250206T003704Z
LAST-MODIFIED:20260309T153725Z
UID:4793-1797674400-1797681600@www.powellpaws.org
SUMMARY:Hollywood Feed Powell Meet and Greet
DESCRIPTION:Please join us at the Hollywood Feed in Powell to get to meet some of our latest rescue dogs! \n  \n 
URL:https://www.powellpaws.org/event/hollywood-feed-powell-meet-and-greet12/
LOCATION:Hollywood Feed Powell\, 4010 W Powell Road\, Powell\, OH\, 43065\, United States
END:VEVENT
END:VCALENDAR