BEGIN:VCALENDAR
VERSION:2.0
PRODID:-//Powell Animal Welfare Society (PAWS) - ECPv6.15.13.1//NONSGML v1.0//EN
CALSCALE:GREGORIAN
METHOD:PUBLISH
X-WR-CALNAME:Powell Animal Welfare Society (PAWS)
X-ORIGINAL-URL:https://www.powellpaws.org
X-WR-CALDESC:Events for Powell Animal Welfare Society (PAWS)
REFRESH-INTERVAL;VALUE=DURATION:PT1H
X-Robots-Tag:noindex
X-PUBLISHED-TTL:PT1H
BEGIN:VTIMEZONE
TZID:America/New_York
BEGIN:DAYLIGHT
TZOFFSETFROM:-0500
TZOFFSETTO:-0400
TZNAME:EDT
DTSTART:20230312T070000
END:DAYLIGHT
BEGIN:STANDARD
TZOFFSETFROM:-0400
TZOFFSETTO:-0500
TZNAME:EST
DTSTART:20231105T060000
END:STANDARD
BEGIN:DAYLIGHT
TZOFFSETFROM:-0500
TZOFFSETTO:-0400
TZNAME:EDT
DTSTART:20240310T070000
END:DAYLIGHT
BEGIN:STANDARD
TZOFFSETFROM:-0400
TZOFFSETTO:-0500
TZNAME:EST
DTSTART:20241103T060000
END:STANDARD
BEGIN:DAYLIGHT
TZOFFSETFROM:-0500
TZOFFSETTO:-0400
TZNAME:EDT
DTSTART:20250309T070000
END:DAYLIGHT
BEGIN:STANDARD
TZOFFSETFROM:-0400
TZOFFSETTO:-0500
TZNAME:EST
DTSTART:20251102T060000
END:STANDARD
BEGIN:DAYLIGHT
TZOFFSETFROM:-0500
TZOFFSETTO:-0400
TZNAME:EDT
DTSTART:20260308T070000
END:DAYLIGHT
BEGIN:STANDARD
TZOFFSETFROM:-0400
TZOFFSETTO:-0500
TZNAME:EST
DTSTART:20261101T060000
END:STANDARD
END:VTIMEZONE
BEGIN:VEVENT
DTSTART;TZID=America/New_York:20250927T100000
DTEND;TZID=America/New_York:20250927T120000
DTSTAMP:20260423T184258
CREATED:20250205T231918Z
LAST-MODIFIED:20250205T231918Z
UID:4744-1758967200-1758974400@www.powellpaws.org
SUMMARY:Pet Supplies Plus Meet and Greet
DESCRIPTION:Come to Pet Supplies Plus to meet some of our newest adoptable dogs…
URL:https://www.powellpaws.org/event/pet-supplies-plus-meet-and-greet9/
LOCATION:Pet Supplies Plus\, 9848 Brewster Ln\, Powell\, OH\, 43065\, United States
END:VEVENT
BEGIN:VEVENT
DTSTART;TZID=America/New_York:20250823T100000
DTEND;TZID=America/New_York:20250823T120000
DTSTAMP:20260423T184258
CREATED:20250205T231700Z
LAST-MODIFIED:20250205T231700Z
UID:4742-1755943200-1755950400@www.powellpaws.org
SUMMARY:Pet Supplies Plus Meet and Greet
DESCRIPTION:Come to Pet Supplies Plus to meet some of our newest adoptable dogs…
URL:https://www.powellpaws.org/event/pet-supplies-plus-meet-and-greet8/
LOCATION:Pet Supplies Plus\, 9848 Brewster Ln\, Powell\, OH\, 43065\, United States
END:VEVENT
BEGIN:VEVENT
DTSTART;TZID=America/New_York:20250726T100000
DTEND;TZID=America/New_York:20250726T120000
DTSTAMP:20260423T184258
CREATED:20250205T231528Z
LAST-MODIFIED:20250205T231528Z
UID:4740-1753524000-1753531200@www.powellpaws.org
SUMMARY:Pet Supplies Plus Meet and Greet
DESCRIPTION:Come to Pet Supplies Plus to meet some of our newest adoptable dogs…
URL:https://www.powellpaws.org/event/pet-supplies-plus-meet-and-greet7/
LOCATION:Pet Supplies Plus\, 9848 Brewster Ln\, Powell\, OH\, 43065\, United States
END:VEVENT
BEGIN:VEVENT
DTSTART;TZID=America/New_York:20250705T100000
DTEND;TZID=America/New_York:20250705T120000
DTSTAMP:20260423T184258
CREATED:20250205T233640Z
LAST-MODIFIED:20250205T233640Z
UID:4761-1751709600-1751716800@www.powellpaws.org
SUMMARY:Mutts & Co Dublin Meet and Greet
DESCRIPTION:Come and meet some of Powell Animal Welfare Society’s adoptable dogs the first Saturday of the month!
URL:https://www.powellpaws.org/event/mutts-co-dublin-meet-and-greet7/
LOCATION:Mutts & Co Dublin\, 7549 Sawmill Road\, Dublin\, OH\, 43054\, United States
END:VEVENT
BEGIN:VEVENT
DTSTART;TZID=America/New_York:20250628T100000
DTEND;TZID=America/New_York:20250628T140000
DTSTAMP:20260423T184258
CREATED:20250401T214051Z
LAST-MODIFIED:20250401T214051Z
UID:4795-1751104800-1751119200@www.powellpaws.org
SUMMARY:World Blood Donor Day and Pet Expo
DESCRIPTION:Please join us for a fun event and visit with some of our adoptable doggos at the Riverside Crossing Park\, directly across from Bridge Park and adjacent to the Dublin Farmers Market
URL:https://www.powellpaws.org/event/world-blood-donor-day-and-pet-expo/
LOCATION:Riverside Crossing Park\, Riverside Crossing Park\, Dublin\, OH\, 43017\, United States
ORGANIZER;CN="Ohio Pet Charities":MAILTO:info@ohiopetcharities.org
END:VEVENT
BEGIN:VEVENT
DTSTART;TZID=America/New_York:20250614T100000
DTEND;TZID=America/New_York:20250614T120000
DTSTAMP:20260423T184258
CREATED:20250205T231302Z
LAST-MODIFIED:20250409T212703Z
UID:4738-1749895200-1749902400@www.powellpaws.org
SUMMARY:Pet Supplies Plus Meet and Greet
DESCRIPTION:Come to Pet Supplies Plus to meet some of our newest adoptable dogs…
URL:https://www.powellpaws.org/event/pet-supplies-plus-meet-and-greet6/
LOCATION:Pet Supplies Plus\, 9848 Brewster Ln\, Powell\, OH\, 43065\, United States
END:VEVENT
BEGIN:VEVENT
DTSTART;TZID=America/New_York:20250426T100000
DTEND;TZID=America/New_York:20250426T120000
DTSTAMP:20260423T184258
CREATED:20250205T225235Z
LAST-MODIFIED:20250205T225442Z
UID:4732-1745661600-1745668800@www.powellpaws.org
SUMMARY:Pet Supplies Plus Meet and Greet
DESCRIPTION:Come to Pet Supplies Plus to meet some of our newest adoptable dogs…
URL:https://www.powellpaws.org/event/pet-supplies-plus-meet-and-greet4/
LOCATION:Pet Supplies Plus\, 9848 Brewster Ln\, Powell\, OH\, 43065\, United States
END:VEVENT
BEGIN:VEVENT
DTSTART;TZID=America/New_York:20241013T100000
DTEND;TZID=America/New_York:20241013T140000
DTSTAMP:20260423T184258
CREATED:20241003T203234Z
LAST-MODIFIED:20241003T203234Z
UID:4708-1728813600-1728828000@www.powellpaws.org
SUMMARY:Falloween Photoshoot
DESCRIPTION:Give your furry friend the “glam” treatment with his/her own private 15-minute photo shoot.  Reservations required.  All donations will assist in defraying medical expenses for our rescues. \nDon’t miss out!\nReserve your slot today!!\n  \n 
URL:https://www.powellpaws.org/event/falloween-photoshoot-2024/
LOCATION:Hollywood Feed Powell\, 4010 W Powell Road\, Powell\, OH\, 43065\, United States
ATTACH;FMTTYPE=image/jpeg:https://www.powellpaws.org/wp-content/uploads/2024/10/Falloween-Photoshoot-2024.jpg
END:VEVENT
END:VCALENDAR