BEGIN:VCALENDAR
VERSION:2.0
PRODID:-//Powell Animal Welfare Society (PAWS) - ECPv6.15.13.1//NONSGML v1.0//EN
CALSCALE:GREGORIAN
METHOD:PUBLISH
X-WR-CALNAME:Powell Animal Welfare Society (PAWS)
X-ORIGINAL-URL:https://www.powellpaws.org
X-WR-CALDESC:Events for Powell Animal Welfare Society (PAWS)
REFRESH-INTERVAL;VALUE=DURATION:PT1H
X-Robots-Tag:noindex
X-PUBLISHED-TTL:PT1H
BEGIN:VTIMEZONE
TZID:UTC
BEGIN:STANDARD
TZOFFSETFROM:+0000
TZOFFSETTO:+0000
TZNAME:UTC
DTSTART:20250101T000000
END:STANDARD
END:VTIMEZONE
BEGIN:VTIMEZONE
TZID:America/New_York
BEGIN:DAYLIGHT
TZOFFSETFROM:-0500
TZOFFSETTO:-0400
TZNAME:EDT
DTSTART:20250309T070000
END:DAYLIGHT
BEGIN:STANDARD
TZOFFSETFROM:-0400
TZOFFSETTO:-0500
TZNAME:EST
DTSTART:20251102T060000
END:STANDARD
BEGIN:DAYLIGHT
TZOFFSETFROM:-0500
TZOFFSETTO:-0400
TZNAME:EDT
DTSTART:20260308T070000
END:DAYLIGHT
BEGIN:STANDARD
TZOFFSETFROM:-0400
TZOFFSETTO:-0500
TZNAME:EST
DTSTART:20261101T060000
END:STANDARD
BEGIN:DAYLIGHT
TZOFFSETFROM:-0500
TZOFFSETTO:-0400
TZNAME:EDT
DTSTART:20270314T070000
END:DAYLIGHT
BEGIN:STANDARD
TZOFFSETFROM:-0400
TZOFFSETTO:-0500
TZNAME:EST
DTSTART:20271107T060000
END:STANDARD
END:VTIMEZONE
BEGIN:VEVENT
DTSTART;TZID=UTC:20260103T100000
DTEND;TZID=UTC:20260103T120000
DTSTAMP:20260423T153314
CREATED:20221001T012556Z
LAST-MODIFIED:20251203T173008Z
UID:4427-1767434400-1767441600@www.powellpaws.org
SUMMARY:Mutts & Co Dublin Meet and Greet
DESCRIPTION:Come and meet some of Powell Animal Welfare Society’s adoptable dogs the first Saturday of the month! \n 
URL:https://www.powellpaws.org/event/mutts-co-dublin-meet-and-greet1/
LOCATION:Mutts & Co Dublin\, 7549 Sawmill Road\, Dublin\, OH\, 43054\, United States
END:VEVENT
BEGIN:VEVENT
DTSTART;TZID=America/New_York:20260117T100000
DTEND;TZID=America/New_York:20260117T120000
DTSTAMP:20260423T153314
CREATED:20230121T200202Z
LAST-MODIFIED:20251203T173200Z
UID:4602-1768644000-1768651200@www.powellpaws.org
SUMMARY:Hollywood Feed Powell Meet and Greet
DESCRIPTION:Please join us at the Hollywood Feed in Powell to get to meet some of our latest rescue dogs! \n  \n 
URL:https://www.powellpaws.org/event/hollywood-feed-powell-meet-and-greet1/
LOCATION:Hollywood Feed Powell\, 4010 W Powell Road\, Powell\, OH\, 43065\, United States
END:VEVENT
BEGIN:VEVENT
DTSTART;TZID=America/New_York:20260124T100000
DTEND;TZID=America/New_York:20260124T110000
DTSTAMP:20260423T153314
CREATED:20221113T153941Z
LAST-MODIFIED:20251203T173259Z
UID:4530-1769248800-1769252400@www.powellpaws.org
SUMMARY:Pet Supplies Plus Meet and Greet
DESCRIPTION:Come to Pet Supplies Plus to meet some of our newest adoptable dogs…
URL:https://www.powellpaws.org/event/pet-supplies-plus-meet-and-greet1/
LOCATION:Pet Supplies Plus\, 9848 Brewster Ln\, Powell\, OH\, 43065\, United States
END:VEVENT
END:VCALENDAR